BEGIN:VCALENDAR
VERSION:2.0
PRODID:-//Mile Hi Snowmobile Club - ECPv6.15.11//NONSGML v1.0//EN
CALSCALE:GREGORIAN
METHOD:PUBLISH
X-WR-CALNAME:Mile Hi Snowmobile Club
X-ORIGINAL-URL:https://www.milehisnowmobileclub.com
X-WR-CALDESC:Events for Mile Hi Snowmobile Club
REFRESH-INTERVAL;VALUE=DURATION:PT1H
X-Robots-Tag:noindex
X-PUBLISHED-TTL:PT1H
BEGIN:VTIMEZONE
TZID:America/Denver
BEGIN:DAYLIGHT
TZOFFSETFROM:-0700
TZOFFSETTO:-0600
TZNAME:MDT
DTSTART:20240310T090000
END:DAYLIGHT
BEGIN:STANDARD
TZOFFSETFROM:-0600
TZOFFSETTO:-0700
TZNAME:MST
DTSTART:20241103T080000
END:STANDARD
BEGIN:DAYLIGHT
TZOFFSETFROM:-0700
TZOFFSETTO:-0600
TZNAME:MDT
DTSTART:20250309T090000
END:DAYLIGHT
BEGIN:STANDARD
TZOFFSETFROM:-0600
TZOFFSETTO:-0700
TZNAME:MST
DTSTART:20251102T080000
END:STANDARD
BEGIN:DAYLIGHT
TZOFFSETFROM:-0700
TZOFFSETTO:-0600
TZNAME:MDT
DTSTART:20260308T090000
END:DAYLIGHT
BEGIN:STANDARD
TZOFFSETFROM:-0600
TZOFFSETTO:-0700
TZNAME:MST
DTSTART:20261101T080000
END:STANDARD
END:VTIMEZONE
BEGIN:VEVENT
DTSTART;TZID=America/Denver:20250405T083000
DTEND;TZID=America/Denver:20250405T160000
DTSTAMP:20260419T101201
CREATED:20250307T153027Z
LAST-MODIFIED:20250401T120717Z
UID:1298-1743841800-1743868800@www.milehisnowmobileclub.com
SUMMARY:Member Ride - Vail Pass
DESCRIPTION:Skill Level:  Intermediate / Advanced. \nRide Description:  A little trail riding\, but only as necessary to go to meadows and hills with trees. Recommend downloading the free COTREX app if you don’t have another winter trails app that shows the Vail Pass Winter Recreation Area trails. \nLocation:  Vail Pass Winter Recreation Area – Vail Pass parking lot. (Note $10 parking fee if you don’t have an annual pass for VPWRA.) See View Venue Website link below for map/directions. \n\nParking lot may or may not be plowed\, but it usually is or is well packed down.\n\nBreakfast: 7:00a\, Sunshine Cafe\, 250 Summit Pl\, Silverthorne\, CO 80498\, https://maps.app.goo.gl/fmFxUbvz8jHKBJAY8 \nPre-Ride Gear Check & Meeting: 8:30a\, near Mathew’s truck (Grey Ford F-150\, no trailer). \nRide Start Time: 8:45a. \nRide End Time:  4:00p\, or earlier if group wants. \nMust Haves:  Mntn sled\, Beacon w/good batts\, Probe\, Shovel\, FRS or GMRS radio set to channel 18\, privacy code 21. \nLunch Plan:  Carry whatever you need to stay fueled and hydrated for the day; we won’t be returning to the parking lot until the end of our ride.
URL:https://www.milehisnowmobileclub.com/event/club-ride-red-dirt-2/
LOCATION:CO
CATEGORIES:Member Rides
ATTACH;FMTTYPE=image/jpeg:https://www.milehisnowmobileclub.com/wp-content/uploads/2025/03/Messenger_creation_464FC621-A85D-40DA-9E66-FBDE86AC577B.jpeg
ORGANIZER;CN="Mathew Saul":MAILTO:m.saul@monroeroofing.com
END:VEVENT
BEGIN:VEVENT
DTSTART;TZID=America/Denver:20250412T100000
DTEND;TZID=America/Denver:20250413T160000
DTSTAMP:20260419T101201
CREATED:20250307T211303Z
LAST-MODIFIED:20250409T001507Z
UID:1341-1744452000-1744560000@www.milehisnowmobileclub.com
SUMMARY:CANCELLED: Member Ride - 2-Day - Flat Tops
DESCRIPTION:This ride has been cancelled due to weather and the resulting lack of interest. \nSkill Level:  Intermediate / Advanced. \nRide Description: Two days of riding (come for one or both days). A little trail riding\, but only as necessary to go to meadows and hills with trees. I’ve been there in the summer\, and generally know the area\, but haven’t sledded there\, so please plan to explore; other people sled there\, and I know where to go from them\, and it looked great for nearly infinite sledding in the summer! Recommend downloading the free COTREX app if you don’t have another winter trails app that shows the Flat Tops trails N of New Castle. \nLocation:  Flat Tops – Bufford Newcastle Winter Parking Lot. See View Venue Website link below for map/directions. \n\nParking lot may or may not be plowed\, but it usually is or is well packed down.\n\nLodging/Food/Gas: The closest town is New Castle\, CO\, 16 miles (about 30-35 minutes) from the parking lot. The Ore House Inn and Wingate by Wyndham are both in New Castle\, as are some restaurants and gas stations. There are other places in Rifle (25 miles from parking lot)\, as well as Glenwood Springs (30 miles from parking lot). \nPre-Ride Gear Check & Meeting: 10:00a (due to distance and to let crust thaw)\, near signs in the parking lot. \nRide Start Time: 10:15a. \nRide End Time:  4:00p\, or earlier if group wants. \nMust Haves:  Mntn sled\, Beacon w/good batts\, Probe\, Shovel\, Mntn sled\, Beacon w/good batts\, Probe\, Shovel\, FRS or GMRS radio set to channel 18\, privacy code 21. \nLunch Plan:  Carry whatever you need to stay fueled and hydrated for the day; we won’t be returning to the parking lot until the end of our ride.
URL:https://www.milehisnowmobileclub.com/event/club-ride-2-day-flat-tops/
LOCATION:Flat Tops – Bufford Newcastle Winter Parking Lot\, 39.732310\, -107.648038\, CO\, United States
CATEGORIES:Member Rides
ATTACH;FMTTYPE=image/jpeg:https://www.milehisnowmobileclub.com/wp-content/uploads/2025/03/Flat-Tops-scaled.jpg
ORGANIZER;CN="Dean Self":MAILTO:dean@deanself.com
END:VEVENT
BEGIN:VEVENT
DTSTART;TZID=America/Denver:20250419T090000
DTEND;TZID=America/Denver:20250419T160000
DTSTAMP:20260419T101201
CREATED:20250307T215119Z
LAST-MODIFIED:20250307T215849Z
UID:1367-1745053200-1745078400@www.milehisnowmobileclub.com
SUMMARY:Member Ride - TBD - Need Ride Leader
DESCRIPTION:Can you step up and lead a ride on this date or 4/20/25? If so\, contact Dean at 571-228-0239.
URL:https://www.milehisnowmobileclub.com/event/club-ride-tbd-need-ride-leader/
LOCATION:CO
CATEGORIES:Member Rides
END:VEVENT
BEGIN:VEVENT
DTSTART;TZID=America/Denver:20250426T090000
DTEND;TZID=America/Denver:20250426T160000
DTSTAMP:20260419T101201
CREATED:20250307T215309Z
LAST-MODIFIED:20250320T111150Z
UID:1370-1745658000-1745683200@www.milehisnowmobileclub.com
SUMMARY:Member Ride - TBD - Need Ride Leader
DESCRIPTION:Can you step up and lead a ride on this date or 4/27/25? If so\, contact Dean at 571-228-0239.
URL:https://www.milehisnowmobileclub.com/event/club-ride-tbd-need-ride-leader-2/
LOCATION:CO
CATEGORIES:Member Rides
END:VEVENT
END:VCALENDAR